BEGIN:VCALENDAR
VERSION:2.0
PRODID:-//wp-events-plugin.com//7.2.3.1//EN
BEGIN:VEVENT
UID:574@mickleoveranglicans.org.uk
DTSTART:20240803T093000Z
DTEND:20240803T160000Z
DTSTAMP:20240729T124837Z
URL:https://mickleoveranglicans.org.uk/events/all-saints-churchyard-tidy-d
 ay-ians-gardening-gang/
SUMMARY:All Saints Churchyard Tidy Day - Ian's Gardening Gang
DESCRIPTION:‘Ian’s Gardening Gang’ will be convening again on 3rd Aug
 ust to see if we can win the battle against the weeds and grass etc. We sh
 all meet at 9.20am to divide the churchyard into manageable lots/teams and
  start work at 9.30am. Drinks will be provided throughout the day.\n\nWe a
 im to finish the day 3.30-4.00pm\, we may ‘finish off’ areas on Sunday
  afternoon if necessary or the following Tuesday morning. You don’t have
  to do the whole day! jobs will be allocated to fit individual ability\; w
 e shall be very grateful for whatever time/expertise/ enthusiasm you can o
 ffer.\n\nSo\, find your favourite ‘implements’ and bring them along wi
 th you and come and join us.  (Make sure you put some sort of mark on the
 m\, so you know they are yours!) Please sign the list at the back of churc
 h or let the office or the churchwardens know if you are able to help. Loo
 k forward to seeing you there!!
ATTACH;FMTTYPE=image/jpeg:https://mickleoveranglicans.org.uk/wp-content/up
 loads/2024/07/top-view-photo-of-gardening-tools-4503269-scaled.jpg
CATEGORIES:Social
LOCATION:All Saints Church\, All Saints Church\, Mickleover\, Derby\, DE3 0
 DL\, United Kingdom
X-APPLE-STRUCTURED-LOCATION;VALUE=URI;X-ADDRESS=All Saints Church\, Mickleo
 ver\, Derby\, DE3 0DL\, United Kingdom;X-APPLE-RADIUS=100;X-TITLE=All Sain
 ts Church:geo:0,0
END:VEVENT
END:VCALENDAR