BEGIN:VCALENDAR
VERSION:2.0
PRODID:-//wp-events-plugin.com//7.2.3.1//EN
BEGIN:VEVENT
UID:524@mickleoveranglicans.org.uk
DTSTART:20241006T100000Z
DTEND:20241006T110000Z
DTSTAMP:20240729T124127Z
URL:https://mickleoveranglicans.org.uk/events/morning-praise-2-2024-10-06/
SUMMARY:Harvest at St Johns
DESCRIPTION:Join us for our Harvest Service at St Johns\n\nEveryone welcome
 . \n\nStay afterwards for refreshments.\n\nYou can also watch this servic
 e live on YouTube\, you can find the link on the 'Resources and Links' tab
 \, then 'YouTube Services' page. Or contact either of the Church Offices.
ATTACH;FMTTYPE=image/jpeg:https://mickleoveranglicans.org.uk/wp-content/up
 loads/2024/07/bunch-of-various-ripe-exotic-fruits-and-ripe-healthy-vegetab
 les-placed-on-marble-table-in-light-kitchen-during-harvest-season-6605350-
 scaled.jpg
CATEGORIES:service
LOCATION:St John the Evangelist\, Devonshire Drive\, Derby\, Derbyshire\, D
 E3 9HD\, England
X-APPLE-STRUCTURED-LOCATION;VALUE=URI;X-ADDRESS=Devonshire Drive\, Derby\, 
 Derbyshire\, DE3 9HD\, England;X-APPLE-RADIUS=100;X-TITLE=St John the Evan
 gelist:geo:0,0
END:VEVENT
END:VCALENDAR