BEGIN:VCALENDAR
VERSION:2.0
PRODID:-//wp-events-plugin.com//7.2.3.1//EN
BEGIN:VEVENT
UID:576@mickleoveranglicans.org.uk
DTSTART:20240921T180000Z
DTEND:20240921T220000Z
DTSTAMP:20240812T114942Z
URL:https://mickleoveranglicans.org.uk/events/our-dementia-choir-brookfiel
 d-school-choir/
SUMMARY:Our Dementia Choir & Brookfield School Choir
DESCRIPTION:Saturday 21st September\, 6pm at All Saints Church.\n\nAs a Dem
 entia friendly church\, we are delighted to welcome the Dementia Choir alo
 ng with the Brookfield School Choir for an evening of songs\, lucky bag ra
 ffle and refreshments.\n\nTickets £15 each\, available at St John’s and
  All Saints Churches.\n\nSpace is limited for this event.
CATEGORIES:Concert,Social
LOCATION:All Saints Church\, All Saints Church\, Mickleover\, Derby\, DE3 0
 DL\, United Kingdom
X-APPLE-STRUCTURED-LOCATION;VALUE=URI;X-ADDRESS=All Saints Church\, Mickleo
 ver\, Derby\, DE3 0DL\, United Kingdom;X-APPLE-RADIUS=100;X-TITLE=All Sain
 ts Church:geo:0,0
END:VEVENT
END:VCALENDAR