BEGIN:VCALENDAR
VERSION:2.0
PRODID:-//wp-events-plugin.com//7.2.3.1//EN
BEGIN:VEVENT
UID:1173@mickleoveranglicans.org.uk
DTSTART:20250719T140000Z
DTEND:20250719T170000Z
DTSTAMP:20250630T101122Z
URL:https://mickleoveranglicans.org.uk/events/radbourne-summer-fete/
SUMMARY:Radbourne Summer Fete
DESCRIPTION:Radbourne Summer Fete\n\nRadbourne Hall\n\nSaturday 19th July 2
 025\n\n2 - 5pm\n\nRaising funds for St Andrew's Church
CATEGORIES:sale,Social
END:VEVENT
END:VCALENDAR